BEGIN:VCALENDAR
VERSION:2.0
PRODID:-//Church of Saint Mary - ECPv6.15.16//NONSGML v1.0//EN
CALSCALE:GREGORIAN
METHOD:PUBLISH
X-ORIGINAL-URL:https://www.saintmarygrand.org
X-WR-CALDESC:Events for Church of Saint Mary
REFRESH-INTERVAL;VALUE=DURATION:PT1H
X-Robots-Tag:noindex
X-PUBLISHED-TTL:PT1H
BEGIN:VTIMEZONE
TZID:America/New_York
BEGIN:DAYLIGHT
TZOFFSETFROM:-0500
TZOFFSETTO:-0400
TZNAME:EDT
DTSTART:20210314T070000
END:DAYLIGHT
BEGIN:STANDARD
TZOFFSETFROM:-0400
TZOFFSETTO:-0500
TZNAME:EST
DTSTART:20211107T060000
END:STANDARD
BEGIN:DAYLIGHT
TZOFFSETFROM:-0500
TZOFFSETTO:-0400
TZNAME:EDT
DTSTART:20220313T070000
END:DAYLIGHT
BEGIN:STANDARD
TZOFFSETFROM:-0400
TZOFFSETTO:-0500
TZNAME:EST
DTSTART:20221106T060000
END:STANDARD
BEGIN:DAYLIGHT
TZOFFSETFROM:-0500
TZOFFSETTO:-0400
TZNAME:EDT
DTSTART:20230312T070000
END:DAYLIGHT
BEGIN:STANDARD
TZOFFSETFROM:-0400
TZOFFSETTO:-0500
TZNAME:EST
DTSTART:20231105T060000
END:STANDARD
END:VTIMEZONE
BEGIN:VEVENT
DTSTART;VALUE=DATE:20220606
DTEND;VALUE=DATE:20220607
DTSTAMP:20260420T235827
CREATED:20220603T214925Z
LAST-MODIFIED:20220603T214925Z
UID:3434-1654473600-1654559999@www.saintmarygrand.org
SUMMARY:The Blessed Virgin Mary\, Mother of the Church
DESCRIPTION:6 Mon The Blessed Virgin Mary\, Mother of the Church white (Tenth Week in Ordinary Time) Memorial Gn 3:9-15\, 20 or Acts 1:12-14/Jn 19:25-34 (572A\, see USCCB.org/motherofthechurch) Pss II
URL:https://www.saintmarygrand.org/event/the-blessed-virgin-mary-mother-of-the-church/
LOCATION:NY
END:VEVENT
END:VCALENDAR